BEGIN:VCALENDAR
VERSION:2.0
PRODID:-//Gruppo Amici della Montagna - ECPv6.15.20//NONSGML v1.0//EN
CALSCALE:GREGORIAN
METHOD:PUBLISH
X-WR-CALNAME:Gruppo Amici della Montagna
X-ORIGINAL-URL:https://admpiazzola.it
X-WR-CALDESC:Eventi per Gruppo Amici della Montagna
REFRESH-INTERVAL;VALUE=DURATION:PT1H
X-Robots-Tag:noindex
X-PUBLISHED-TTL:PT1H
BEGIN:VTIMEZONE
TZID:Europe/Rome
BEGIN:DAYLIGHT
TZOFFSETFROM:+0100
TZOFFSETTO:+0200
TZNAME:CEST
DTSTART:20250330T010000
END:DAYLIGHT
BEGIN:STANDARD
TZOFFSETFROM:+0200
TZOFFSETTO:+0100
TZNAME:CET
DTSTART:20251026T010000
END:STANDARD
BEGIN:DAYLIGHT
TZOFFSETFROM:+0100
TZOFFSETTO:+0200
TZNAME:CEST
DTSTART:20260329T010000
END:DAYLIGHT
BEGIN:STANDARD
TZOFFSETFROM:+0200
TZOFFSETTO:+0100
TZNAME:CET
DTSTART:20261025T010000
END:STANDARD
BEGIN:DAYLIGHT
TZOFFSETFROM:+0100
TZOFFSETTO:+0200
TZNAME:CEST
DTSTART:20270328T010000
END:DAYLIGHT
BEGIN:STANDARD
TZOFFSETFROM:+0200
TZOFFSETTO:+0100
TZNAME:CET
DTSTART:20271031T010000
END:STANDARD
END:VTIMEZONE
BEGIN:VEVENT
DTSTART;TZID=Europe/Rome:20260425T070000
DTEND;TZID=Europe/Rome:20260425T200000
DTSTAMP:20260425T162057
CREATED:20260413T154356Z
LAST-MODIFIED:20260414T134308Z
UID:10000225-1777100400-1777147200@admpiazzola.it
SUMMARY:Altopiano dei Sette Comuni · Punta Altaburg - Cascate Pach
DESCRIPTION:ALTOPIANO DEI SETTE COMUNIPUNTA ALTABURG – ALTAR KNOTTO – CASCATE DEL PACH\nREFERENTI: MASCARO SABINA (3517957782) CASONATO GIAMPAOLO (3495302484) \n1° RITROVO: ore 07.00 Piazzola sul Brenta presso la sede in via Rolando\, 57 2° RITROVO: ore 07.15 Pizzeria Der Platz Via Guglielmo Marconi\, 35 – San Pietro in GuTRASPORTO: auto/pulminiCOMITIVA: unicaDISLIVELLO: circa 850 – KM: circa 18.DURATA: 7/8 ore circa compresa pausa pranzoDIFFICOLTA’: EEEQUIPAGGIAMENTO: abbigliamento adeguato alla stagione – obbligatori scarponi da montagnaCARTINA: TABACCO n. 50 Altopiano dei Sette Comuni – Asiago – OrtigaraSOSTA COLAZIONE: Bar La Vignetta – ArsieroN.B.: Percorreremo alcuni tratti di strada asfaltata (a basso o per nulla trafficati) \nDescrizione:Dal parcheggio di Via Bostel località Castelletto (mt 841)\, percorreremo una stradina fino a raggiungere una segnaletica alla sinistra che indica la Chiesa di Santa Margherita (XI secolo). Preso il sentiero in mezzo ai campi arriveremo proprio davanti l’antica Chiesetta di Santa Margherita. Da qui\, su un breve tratto di strada asfaltata\, imboccheremo alla sinistra una mulattiera in mezzo al bosco che si collegherà più avanti con il Sentiero Naturalistico (segnato sulla mappa). Superata la Curva del Tellale (mt. 1137)\, proseguiamo a sinistra collegandoci al sentiero CAI 802 o Sentiero Altar Knotto. Non manca tanto\, e potremmo ammirare la Croce posta in cima alla Punta Altarburg (mt. 1293). Sosta pranzo al sacco (si è deciso di pranzare qua in quanto è l’unico posto comodo – lungo il sentiero non c’è la possibilità di fermarsi più avanti\, se non in mezzo ai sentieri). Si prosegue per raggiungere poco dopo\, questa suggestiva roccia posta a strapiombo sulla Val d’Astico\, la cui forma ricorda un grande altare da qui il nome ALTAR KNOTTO (mt. 1280). Continuando sul sentiero CAI 802\, passando da Alta Kugela (mt. 1355) ritorneremo alla Curva del Tellale e ripercorreremo un pezzo di strada fatta in mattinata\, per poi proseguire\, passando dalla Curva del Gasparo\, nella direzione di Rotzo. Oltrepassate alcune abitazioni troviamo la segnaletica Cascate …. \nNoi naturalmente le seguiamo e con una discesa di circa mt. 250 raggiungiamo le Cascate del Pach. Ritornando sui nostri passi\, tornati a Rotzo\, seguiamo a sinistra la segnaletica per Bostel. Dopo circa 40 minuti saremo alle nostre macchine. \nPer il momento conviviale portare piatti\, posate e bicchieri NON USA E GETTA \nVi apettiamoPaolo & Sabina
URL:https://admpiazzola.it/eventi/altopiano-dei-sette-comuni-%c2%b7-punta-altaburg-cascate-pach/
LOCATION:Rotzo\, Rotzo\, Vi\, 36010\, Italy
ATTACH;FMTTYPE=image/jpeg:https://admpiazzola.it/wp-content/uploads/2025/12/PUNTA-ALTABURG-1.jpg
ORGANIZER;CN="Gruppo Amici della Montagna":MAILTO:admpiazzola@gmail.com
GEO:45.874174648923;11.387783429758
END:VEVENT
END:VCALENDAR